BEGIN:VCALENDAR
VERSION:2.0
PRODID:-//Humane Society of Schuyler County - ECPv6.15.20//NONSGML v1.0//EN
CALSCALE:GREGORIAN
METHOD:PUBLISH
X-WR-CALNAME:Humane Society of Schuyler County
X-ORIGINAL-URL:https://schuylerhumane.org/hssc
X-WR-CALDESC:Events for Humane Society of Schuyler County
REFRESH-INTERVAL;VALUE=DURATION:PT1H
X-Robots-Tag:noindex
X-PUBLISHED-TTL:PT1H
BEGIN:VTIMEZONE
TZID:America/New_York
BEGIN:DAYLIGHT
TZOFFSETFROM:-0500
TZOFFSETTO:-0400
TZNAME:EDT
DTSTART:20250309T070000
END:DAYLIGHT
BEGIN:STANDARD
TZOFFSETFROM:-0400
TZOFFSETTO:-0500
TZNAME:EST
DTSTART:20251102T060000
END:STANDARD
BEGIN:DAYLIGHT
TZOFFSETFROM:-0500
TZOFFSETTO:-0400
TZNAME:EDT
DTSTART:20260308T070000
END:DAYLIGHT
BEGIN:STANDARD
TZOFFSETFROM:-0400
TZOFFSETTO:-0500
TZNAME:EST
DTSTART:20261101T060000
END:STANDARD
BEGIN:DAYLIGHT
TZOFFSETFROM:-0500
TZOFFSETTO:-0400
TZNAME:EDT
DTSTART:20270314T070000
END:DAYLIGHT
BEGIN:STANDARD
TZOFFSETFROM:-0400
TZOFFSETTO:-0500
TZNAME:EST
DTSTART:20271107T060000
END:STANDARD
END:VTIMEZONE
BEGIN:VEVENT
DTSTART;TZID=America/New_York:20260319T170000
DTEND;TZID=America/New_York:20260319T200000
DTSTAMP:20260423T194738
CREATED:20260311T150442Z
LAST-MODIFIED:20260311T150551Z
UID:2721-1773939600-1773950400@schuylerhumane.org
SUMMARY:Veraisons Pasta Night
DESCRIPTION:
URL:https://schuylerhumane.org/hssc/event/veraisons-pasta-night/
LOCATION:Veraisons Restaurant\, 5435 State Route 14\, Dundee\, NY\, 14837\, United States
CATEGORIES:Fundraiser
END:VEVENT
END:VCALENDAR