BEGIN:VCALENDAR
VERSION:2.0
PRODID:-//Humane Society of Schuyler County - ECPv6.15.20//NONSGML v1.0//EN
CALSCALE:GREGORIAN
METHOD:PUBLISH
X-ORIGINAL-URL:https://schuylerhumane.org/hssc
X-WR-CALDESC:Events for Humane Society of Schuyler County
REFRESH-INTERVAL;VALUE=DURATION:PT1H
X-Robots-Tag:noindex
X-PUBLISHED-TTL:PT1H
BEGIN:VTIMEZONE
TZID:America/New_York
BEGIN:DAYLIGHT
TZOFFSETFROM:-0500
TZOFFSETTO:-0400
TZNAME:EDT
DTSTART:20250309T070000
END:DAYLIGHT
BEGIN:STANDARD
TZOFFSETFROM:-0400
TZOFFSETTO:-0500
TZNAME:EST
DTSTART:20251102T060000
END:STANDARD
BEGIN:DAYLIGHT
TZOFFSETFROM:-0500
TZOFFSETTO:-0400
TZNAME:EDT
DTSTART:20260308T070000
END:DAYLIGHT
BEGIN:STANDARD
TZOFFSETFROM:-0400
TZOFFSETTO:-0500
TZNAME:EST
DTSTART:20261101T060000
END:STANDARD
BEGIN:DAYLIGHT
TZOFFSETFROM:-0500
TZOFFSETTO:-0400
TZNAME:EDT
DTSTART:20270314T070000
END:DAYLIGHT
BEGIN:STANDARD
TZOFFSETFROM:-0400
TZOFFSETTO:-0500
TZNAME:EST
DTSTART:20271107T060000
END:STANDARD
END:VTIMEZONE
BEGIN:VEVENT
DTSTART;TZID=America/New_York:20260411T100000
DTEND;TZID=America/New_York:20260411T120000
DTSTAMP:20260423T195108
CREATED:20260321T232942Z
LAST-MODIFIED:20260321T233946Z
UID:2749-1775901600-1775908800@schuylerhumane.org
SUMMARY:Pet Pantry
DESCRIPTION:  \n\n\n\n\n\n\n\nPet Pantry: March 21\, 2026 & April 11\, 2026 \nEach month we host a Pet Pantry for income eligible Schuyler County residents. Our Pet Pantry’s are primarily donation based\, meaning the supplies we have and the brands of food can vary from month to month. \nPet Pantries are on the third Saturday of every month. All pantries are held at the Humane Society\, 124 Marina Drive Montour Falls\, NY. Learn more. \nOur Pet Pantry is sponsored each month by a generous local business. If you’d like to be a sponsor and help families feed their pets\, please contact us.\n\n\n\n\n\n\n\n  \n\n\n\n\n\n\n\nThanks to our generous community and businesses for their support! We are so fortunate to have such wonderful neighbors! We hope you’ll join us to support them and the Humane Society at these upcoming events!  \n \n\n\n\n\n\n\n\n 
URL:https://schuylerhumane.org/hssc/event/pet-pantry/
LOCATION:Humane Society Shelter\, 124 Marina Drive\, Montour Falls\, NY\, 14865\, United States
CATEGORIES:Pet Portraits
ORGANIZER;CN="Humane Society of Schuyler County":MAILTO:info@schuylerhumane.org
END:VEVENT
END:VCALENDAR